BEGIN:VCALENDAR
VERSION:2.0
PRODID:-//Hohehaus - Stadt Marienmünster - Kreis Höxter - ECPv6.15.11//NONSGML v1.0//EN
CALSCALE:GREGORIAN
METHOD:PUBLISH
X-ORIGINAL-URL:https://www.hohehaus-digital.de
X-WR-CALDESC:Veranstaltungen für Hohehaus - Stadt Marienmünster - Kreis Höxter
REFRESH-INTERVAL;VALUE=DURATION:PT1H
X-Robots-Tag:noindex
X-PUBLISHED-TTL:PT1H
BEGIN:VTIMEZONE
TZID:Europe/Berlin
BEGIN:DAYLIGHT
TZOFFSETFROM:+0100
TZOFFSETTO:+0200
TZNAME:CEST
DTSTART:20240331T010000
END:DAYLIGHT
BEGIN:STANDARD
TZOFFSETFROM:+0200
TZOFFSETTO:+0100
TZNAME:CET
DTSTART:20241027T010000
END:STANDARD
BEGIN:DAYLIGHT
TZOFFSETFROM:+0100
TZOFFSETTO:+0200
TZNAME:CEST
DTSTART:20250330T010000
END:DAYLIGHT
BEGIN:STANDARD
TZOFFSETFROM:+0200
TZOFFSETTO:+0100
TZNAME:CET
DTSTART:20251026T010000
END:STANDARD
BEGIN:DAYLIGHT
TZOFFSETFROM:+0100
TZOFFSETTO:+0200
TZNAME:CEST
DTSTART:20260329T010000
END:DAYLIGHT
BEGIN:STANDARD
TZOFFSETFROM:+0200
TZOFFSETTO:+0100
TZNAME:CET
DTSTART:20261025T010000
END:STANDARD
END:VTIMEZONE
BEGIN:VEVENT
DTSTART;TZID=Europe/Berlin:20250806T183000
DTEND;TZID=Europe/Berlin:20250806T220000
DTSTAMP:20260421T172153
CREATED:20250712T131239Z
LAST-MODIFIED:20250713T135301Z
UID:11869-1754505000-1754517600@www.hohehaus-digital.de
SUMMARY:Rad Sport Team Hohehaus
DESCRIPTION:
URL:https://www.hohehaus-digital.de/event/rad-sport-team-hohehaus-3/
LOCATION:Wendiges Gotteshaus
ATTACH;FMTTYPE=image/jpeg:https://www.hohehaus-digital.de/wp-content/uploads/2025/06/Rad-Sport-Team-Hohehaus.jpg
END:VEVENT
BEGIN:VEVENT
DTSTART;TZID=Europe/Berlin:20250813T183000
DTEND;TZID=Europe/Berlin:20250813T220000
DTSTAMP:20260421T172153
CREATED:20250712T131543Z
LAST-MODIFIED:20250713T135343Z
UID:11871-1755109800-1755122400@www.hohehaus-digital.de
SUMMARY:Rad Sport Team Hohehaus
DESCRIPTION:
URL:https://www.hohehaus-digital.de/event/rad-sport-team-hohehaus-4/
LOCATION:Wendiges Gotteshaus
ATTACH;FMTTYPE=image/jpeg:https://www.hohehaus-digital.de/wp-content/uploads/2025/06/Rad-Sport-Team-Hohehaus.jpg
END:VEVENT
BEGIN:VEVENT
DTSTART;TZID=Europe/Berlin:20250820T080000
DTEND;TZID=Europe/Berlin:20250820T170000
DTSTAMP:20260421T172153
CREATED:20250712T131653Z
LAST-MODIFIED:20250713T135423Z
UID:11875-1755676800-1755709200@www.hohehaus-digital.de
SUMMARY:Rad Sport Team Hohehaus
DESCRIPTION:
URL:https://www.hohehaus-digital.de/event/rad-sport-team-hohehaus-6/
LOCATION:Wendiges Gotteshaus
ATTACH;FMTTYPE=image/jpeg:https://www.hohehaus-digital.de/wp-content/uploads/2025/06/Rad-Sport-Team-Hohehaus.jpg
END:VEVENT
BEGIN:VEVENT
DTSTART;TZID=Europe/Berlin:20250820T183000
DTEND;TZID=Europe/Berlin:20250820T220000
DTSTAMP:20260421T172153
CREATED:20250712T131623Z
LAST-MODIFIED:20250713T135448Z
UID:11873-1755714600-1755727200@www.hohehaus-digital.de
SUMMARY:Rad Sport Team Hohehaus
DESCRIPTION:
URL:https://www.hohehaus-digital.de/event/rad-sport-team-hohehaus-5/
LOCATION:Wendiges Gotteshaus
ATTACH;FMTTYPE=image/jpeg:https://www.hohehaus-digital.de/wp-content/uploads/2025/06/Rad-Sport-Team-Hohehaus.jpg
END:VEVENT
BEGIN:VEVENT
DTSTART;TZID=Europe/Berlin:20250827T183000
DTEND;TZID=Europe/Berlin:20250827T220000
DTSTAMP:20260421T172153
CREATED:20250712T131739Z
LAST-MODIFIED:20250713T135526Z
UID:11877-1756319400-1756332000@www.hohehaus-digital.de
SUMMARY:Rad Sport Team Hohehaus
DESCRIPTION:
URL:https://www.hohehaus-digital.de/event/rad-sport-team-hohehaus-7/
LOCATION:Wendiges Gotteshaus
ATTACH;FMTTYPE=image/jpeg:https://www.hohehaus-digital.de/wp-content/uploads/2025/06/Rad-Sport-Team-Hohehaus.jpg
END:VEVENT
END:VCALENDAR